BEGIN:VCALENDAR
VERSION:2.0
PRODID:-//Tom Words - ECPv6.15.11//NONSGML v1.0//EN
CALSCALE:GREGORIAN
METHOD:PUBLISH
X-WR-CALNAME:Tom Words
X-ORIGINAL-URL:https://tomwords.net
X-WR-CALDESC:Veranstaltungen für Tom Words
REFRESH-INTERVAL;VALUE=DURATION:PT1H
X-Robots-Tag:noindex
X-PUBLISHED-TTL:PT1H
BEGIN:VTIMEZONE
TZID:Europe/Berlin
BEGIN:DAYLIGHT
TZOFFSETFROM:+0100
TZOFFSETTO:+0200
TZNAME:CEST
DTSTART:20180325T010000
END:DAYLIGHT
BEGIN:STANDARD
TZOFFSETFROM:+0200
TZOFFSETTO:+0100
TZNAME:CET
DTSTART:20181028T010000
END:STANDARD
BEGIN:DAYLIGHT
TZOFFSETFROM:+0100
TZOFFSETTO:+0200
TZNAME:CEST
DTSTART:20190331T010000
END:DAYLIGHT
BEGIN:STANDARD
TZOFFSETFROM:+0200
TZOFFSETTO:+0100
TZNAME:CET
DTSTART:20191027T010000
END:STANDARD
BEGIN:DAYLIGHT
TZOFFSETFROM:+0100
TZOFFSETTO:+0200
TZNAME:CEST
DTSTART:20200329T010000
END:DAYLIGHT
BEGIN:STANDARD
TZOFFSETFROM:+0200
TZOFFSETTO:+0100
TZNAME:CET
DTSTART:20201025T010000
END:STANDARD
END:VTIMEZONE
BEGIN:VEVENT
DTSTART;TZID=Europe/Berlin:20190531T200000
DTEND;TZID=Europe/Berlin:20190531T223000
DTSTAMP:20260423T163154
CREATED:20190531T184702Z
LAST-MODIFIED:20191216T191051Z
UID:105-1559332800-1559341800@tomwords.net
SUMMARY:tom words mit andre cayres\, bass; pablo saez\, drums und céline\, vocals/violin
DESCRIPTION:
URL:https://tomwords.net/event/tom-words-mit-andre-cayres-bass-pablo-saez-drums-und-celine-vocals-violin/
LOCATION:Urania Theater\, Platenstrasse 32\, Köln\, 50825\, Deutschland
END:VEVENT
END:VCALENDAR