BEGIN:VCALENDAR
VERSION:2.0
PRODID:-//Tom Words - ECPv6.15.11//NONSGML v1.0//EN
CALSCALE:GREGORIAN
METHOD:PUBLISH
X-WR-CALNAME:Tom Words
X-ORIGINAL-URL:https://tomwords.net
X-WR-CALDESC:Veranstaltungen für Tom Words
REFRESH-INTERVAL;VALUE=DURATION:PT1H
X-Robots-Tag:noindex
X-PUBLISHED-TTL:PT1H
BEGIN:VTIMEZONE
TZID:Europe/Berlin
BEGIN:DAYLIGHT
TZOFFSETFROM:+0100
TZOFFSETTO:+0200
TZNAME:CEST
DTSTART:20180325T010000
END:DAYLIGHT
BEGIN:STANDARD
TZOFFSETFROM:+0200
TZOFFSETTO:+0100
TZNAME:CET
DTSTART:20181028T010000
END:STANDARD
BEGIN:DAYLIGHT
TZOFFSETFROM:+0100
TZOFFSETTO:+0200
TZNAME:CEST
DTSTART:20190331T010000
END:DAYLIGHT
BEGIN:STANDARD
TZOFFSETFROM:+0200
TZOFFSETTO:+0100
TZNAME:CET
DTSTART:20191027T010000
END:STANDARD
BEGIN:DAYLIGHT
TZOFFSETFROM:+0100
TZOFFSETTO:+0200
TZNAME:CEST
DTSTART:20200329T010000
END:DAYLIGHT
BEGIN:STANDARD
TZOFFSETFROM:+0200
TZOFFSETTO:+0100
TZNAME:CET
DTSTART:20201025T010000
END:STANDARD
END:VTIMEZONE
BEGIN:VEVENT
DTSTART;TZID=Europe/Berlin:20191214T220000
DTEND;TZID=Europe/Berlin:20191214T220000
DTSTAMP:20260421T203120
CREATED:20191216T183406Z
LAST-MODIFIED:20191216T183406Z
UID:248-1576360800-1576360800@tomwords.net
SUMMARY:tom words & celine
DESCRIPTION:
URL:https://tomwords.net/event/tom-words-celine-2/
LOCATION:Cafe Bar Italico; Bonnerstrasse 94; 50677 Köln\, Bonnerstrasse 94\, Köln\, 50677\, Deutschland
ATTACH;FMTTYPE=image/jpeg:https://tomwords.net/wp-content/uploads/2019/12/35.jpg
END:VEVENT
END:VCALENDAR