BEGIN:VCALENDAR
VERSION:2.0
PRODID:-//Tom Words - ECPv6.15.11//NONSGML v1.0//EN
CALSCALE:GREGORIAN
METHOD:PUBLISH
X-ORIGINAL-URL:https://tomwords.net
X-WR-CALDESC:Veranstaltungen für Tom Words
REFRESH-INTERVAL;VALUE=DURATION:PT1H
X-Robots-Tag:noindex
X-PUBLISHED-TTL:PT1H
BEGIN:VTIMEZONE
TZID:Europe/Berlin
BEGIN:DAYLIGHT
TZOFFSETFROM:+0100
TZOFFSETTO:+0200
TZNAME:CEST
DTSTART:20190331T010000
END:DAYLIGHT
BEGIN:STANDARD
TZOFFSETFROM:+0200
TZOFFSETTO:+0100
TZNAME:CET
DTSTART:20191027T010000
END:STANDARD
BEGIN:DAYLIGHT
TZOFFSETFROM:+0100
TZOFFSETTO:+0200
TZNAME:CEST
DTSTART:20200329T010000
END:DAYLIGHT
BEGIN:STANDARD
TZOFFSETFROM:+0200
TZOFFSETTO:+0100
TZNAME:CET
DTSTART:20201025T010000
END:STANDARD
BEGIN:DAYLIGHT
TZOFFSETFROM:+0100
TZOFFSETTO:+0200
TZNAME:CEST
DTSTART:20210328T010000
END:DAYLIGHT
BEGIN:STANDARD
TZOFFSETFROM:+0200
TZOFFSETTO:+0100
TZNAME:CET
DTSTART:20211031T010000
END:STANDARD
END:VTIMEZONE
BEGIN:VEVENT
DTSTART;TZID=Europe/Berlin:20200131T210000
DTEND;TZID=Europe/Berlin:20200131T230000
DTSTAMP:20260421T174211
CREATED:20200301T215606Z
LAST-MODIFIED:20200301T215606Z
UID:447-1580504400-1580511600@tomwords.net
SUMMARY:tom words & los hidalgos
DESCRIPTION:
URL:https://tomwords.net/event/tom-words-los-hidalgos/
LOCATION:casa la musica\, Valle Gran Rey\, La Gomera\, Spanien
ATTACH;FMTTYPE=image/jpeg:https://tomwords.net/wp-content/uploads/2020/03/83249427_2552275108379542_6222017494199042048_n.jpg
END:VEVENT
END:VCALENDAR