BEGIN:VCALENDAR
VERSION:2.0
PRODID:-//Tom Words - ECPv6.15.11//NONSGML v1.0//EN
CALSCALE:GREGORIAN
METHOD:PUBLISH
X-ORIGINAL-URL:https://tomwords.net
X-WR-CALDESC:Veranstaltungen für Tom Words
REFRESH-INTERVAL;VALUE=DURATION:PT1H
X-Robots-Tag:noindex
X-PUBLISHED-TTL:PT1H
BEGIN:VTIMEZONE
TZID:Europe/Berlin
BEGIN:DAYLIGHT
TZOFFSETFROM:+0100
TZOFFSETTO:+0200
TZNAME:CEST
DTSTART:20190331T010000
END:DAYLIGHT
BEGIN:STANDARD
TZOFFSETFROM:+0200
TZOFFSETTO:+0100
TZNAME:CET
DTSTART:20191027T010000
END:STANDARD
BEGIN:DAYLIGHT
TZOFFSETFROM:+0100
TZOFFSETTO:+0200
TZNAME:CEST
DTSTART:20200329T010000
END:DAYLIGHT
BEGIN:STANDARD
TZOFFSETFROM:+0200
TZOFFSETTO:+0100
TZNAME:CET
DTSTART:20201025T010000
END:STANDARD
BEGIN:DAYLIGHT
TZOFFSETFROM:+0100
TZOFFSETTO:+0200
TZNAME:CEST
DTSTART:20210328T010000
END:DAYLIGHT
BEGIN:STANDARD
TZOFFSETFROM:+0200
TZOFFSETTO:+0100
TZNAME:CET
DTSTART:20211031T010000
END:STANDARD
END:VTIMEZONE
BEGIN:VEVENT
DTSTART;TZID=Europe/Berlin:20200314T200000
DTEND;TZID=Europe/Berlin:20200314T220000
DTSTAMP:20260421T162944
CREATED:20200626T143019Z
LAST-MODIFIED:20200626T143019Z
UID:485-1584216000-1584223200@tomwords.net
SUMMARY:tom words & the lost hidalgos
DESCRIPTION:
URL:https://tomwords.net/event/tom-words-the-lost-hidalgos-2/
LOCATION:Eiscafe Fedora Berlin Charlottenburg
ATTACH;FMTTYPE=image/jpeg:https://tomwords.net/wp-content/uploads/2020/06/20190731_201436.jpg
END:VEVENT
END:VCALENDAR